BEGIN:VCALENDAR
PRODID:-//Det Danske Spejderkorps//NONSGML Gruppeweb//EN
VERSION:2.0
CALSCALE:GREGORIAN
X-PUBLISHED-TTL:PT1H
X-WR-CALNAME:Minier i Radulf Gruppe
METHOD:PUBLISH
BEGIN:VEVENT
UID:gruppeweb.dk:2613:event:348
DTSTAMP:20260422T165720Z
LAST-MODIFIED:20250527T170239Z
SUMMARY:Mini spejderlejr - Port Arthur
DESCRIPTION:Vil du med ud på en spændende weekend med en masse andre\nspe
 jdere på din alder? Ja så er du på rette vej..\nDu får i hvert fald ch
 ancen i dette års pinseferie\, vi tager nemlig igen i  \når\, på\nSomme
 rlejr hos ”Port Arthur” på Fyn.\nVi skal igen ud og opleve en masse s
 pændende med en hel masse andre  \nspejdere.\nOg om aftenen er der hygge 
 i lejeren.\nDu kan godt begynde at øve dig\, hvis du er frisk på at syng
 e med sammen med  \n100\nandre spejdere – det bliver superhyggeligt og s
 jovt med masser af\nspejderaktiviteter.\nVi begynder med en hyggelig togtu
 r til Fyn\, hvor vi skal skifte til bus\, for  \nat\nkomme det sidste styk
 ke ud til spejdercenteret.\nHer skal vi slå vores telte op\,\nså vi har 
 et sted at sove om natten og opbevare vores ting.\n\n\n\n
URL:https://www.radulf.dk/begivenhed/mini-spejderlejr-port-arthur-2
DTSTART:20250606T134500Z
DTEND:20250609T123000Z
LOCATION:Radulf Gruppe\, Østre Åsvej 24\, Jersie\, 2680 Solrød Strand
END:VEVENT
BEGIN:VEVENT
UID:gruppeweb.dk:2613:event:363
DTSTAMP:20260422T165720Z
LAST-MODIFIED:20250917T201406Z
SUMMARY:Spejder inspirationstur - en familieskovtur
DESCRIPTION:Spejder inspirationstur\n\n(en familieskovtur)\n\nHej spejder o
 g forældre\n\n\nI inviteres hermed til en spejder inspirationstur (skovtu
 r) i Hedeland\n\nLørdag d. 20. september kl. 10.00 til 14.00\n\n\nTuren e
 r for hele familien og vil være inspireret af de mange sjove og  \nspænd
 ende ture\, som spejderne  kan møde på deres vej.\n\n\nVi vil gerne vise
  / inspirere til\, hvad der ligger bag nogle af de mange  \narrangementer\
 , som spejderne kan møde på deres vej.\n\n\nAktiviteterne er tilrettelag
 t så alle kan være med\, så længe man er  \nklædt efter vejret.\n\nAk
 tiviteterne afvikles i området omkring amfi/opera-scenen i Hedeland\n\n\n
 Dagens program ser ud som følgende:\n\n10.00 Velkomst og inddeling i patr
 uljer\, Aktiviteter i området omkring  \nAmfiscenen.\n\n12.00 -13.30: Fro
 kost\n\n13.30 - 14.00 Afrunding og tak for i dag\n\n\nMedbring:\n\nGodt hu
 mør og eventyrlyst\n\nTøj efter vejret\n\nBestik\, tallerken og drikkedu
 nk\n\nEn mobiltelefon\n\n\nMødested:\n\nParkering - Hedeland - Tranemosen
  (fremsøges på det navn og Google Maps)\n\neller via dette link: https:/
 /bit.ly/phedeland\n\n\nBetaling og tilmelding\n\nPrisen: 75.kr. deltager\n
 \nSeneste tilmelding onsdag d. 17. september via www.radulf.dk\n\n\nPrakti
 ske forhold:\n\n\n\n\n\n\nDer er toiletter v. amfiscenen (“Opera Hedelan
 d)\n\n
URL:https://www.radulf.dk/begivenhed/spejder-inspirationstur-en-familieskov
 tur
DTSTART:20250920T080000Z
DTEND:20250920T120000Z
LOCATION:Radulf Gruppe\, Østre Åsvej 24\, Jersie\, 2680 Solrød Strand
END:VEVENT
BEGIN:VEVENT
UID:gruppeweb.dk:2613:event:361
DTSTAMP:20260422T165720Z
LAST-MODIFIED:20251001T193345Z
SUMMARY:Gruppetur 2025
DESCRIPTION:*Tør du udfordre stormesteren?*\n\nStormesteren har fundet sin
 e bedste opgaver og udfordringer frem til jer.\n\nEr i klar til at tage ud
 fordringen og slå Stormesteren hjem i Stormester  \nLudo.\n\n*Velkommen t
 il Radulfs Gruppetur 2025 - 3 - 5 oktober.*\n\nProgram:\n\nFredag: ankomst
 \, indkvartering og aftensmad og småhygge.\n\nLørdag: Morgenmad\, Storme
 steren udfordrer jer i Stormester Ludo\, Frokost\,  \nhygge\, aftensmad og
  aftenhygge\n\nSøndag: Morgenmad\, oprydning og fri leg\n\nOvernatning: I
 ndendørs i køjesenge (grenvist)\n\nAktiviteterne foregår som udgangspun
 kt udendørs\n\n*Praktiske forhold:*\n\nMødested: Vores egen spejderhytte
 \, fredag d. 3. oktober kl. 17.00\n\nAfhentning: Vores egen spejderhytte s
 øndag d. 5. oktober kl. 11.30\n\nHytten vi skal overnatte i er:\n\nOruph
 øj\, Orupvej 6a\, 4330 Hvalsø\n\nPris: 250\,-\n\nTilmelding via www.radu
 lf.dk senest d. 24. september\n\n*Transport: *\n\nVi går efter fællestra
 nsport\, så vi ikke kører halvtomme biler t/r til  \nHvalsø.\n\nDet gø
 r os dog afhængige af positive tilbagemeldinger omkring kørsel  \n(angiv
 es ved tilmelding).\n\nFor de der skal køre hjem søndag er det kl. 10.45
  v. Oruphøj\, så vi  \nlander i Solrød cirka 11.30.\n\n*Udstyr:*\n\nSov
 epose\, liggeunderlag\, lagen\n\nSpisegrej (tallerken flad/dyb)\, kniv\, s
 ke\, gaffel\, krus og visestykke)\n\nIndendørssko eller tykke sokker\n\nT
 oiletgrej (tandbørste/tandpasta)\n\nTøj og sko til at være ude\n\nLomme
 lygte (kun til hygge v. evt. lejrbål)\n\nMobiltelefoner og andre elektron
 iske dimser efterlades hjemme\n\nTingene pakkes i en taske\, så du selv k
 an håndtere dine ting :)\n\nKontakt til os under turen\; Kenneth 22 655 3
 88\n\n
URL:https://www.radulf.dk/begivenhed/gruppetur-2025
DTSTART:20251003T150000Z
DTEND:20251005T093000Z
LOCATION:Oruphøj\, Orupvej 6A\, 4330 Hvalsø
END:VEVENT
BEGIN:VEVENT
UID:gruppeweb.dk:2613:event:370
DTSTAMP:20260422T165720Z
LAST-MODIFIED:20251127T152426Z
SUMMARY:Grønne lodder 2025
DESCRIPTION:\n\nStøt de lokale spejdere...\n\nVi kan ikke nå forbi alle l
 okale døre for at banke på\, men du kan  \nalligevel købe lodsedler og 
 støtte os.\n\nVi tilbyder en alternativ løsning nemlig\, at du kan købe
  lodderne via vores  \nhjemmeside.\n\n\nDu køber og betaler lodderne onli
 ne. \n*Søndag d. 2. december modtager du en mail med numrene på de lods
 edler\, som  \ndu har købt.\nVinder du så sørger vi for\, at du får vi
 nderloddet i hænde\, så kan  \nmodtage din velfortjente gevinst.\nGem e-
 mailen med besked om dine lykkenumre og svar på den\, hvis du vinder :)\n
 *\nResultatet af trækningen offentliggøres på www.koegegilde.dk [1] o
 mkring  \nden 6. december samt i Dagbladet og i Ugeavisen omkring d. 11. d
 ecember.\n*\n*\n\nLodderne sælges i bundter af 10 styk. Et bundt koster 2
 0 kroner og giver 10  \nvinderchancer.\n\nDu får automatisk tilsendt en k
 vittering til din mail\, når du har  \ngennemført dit køb.\n\nVi kan ko
 ntaktes på:\n\nkenneth@radulf.dk\, hvis du har behov for at kontakte os.\
 n\n\n[1] http://www.koegegilde.dk/\n
URL:https://www.radulf.dk/begivenhed/groenne-lodder-2025
DTSTART;VALUE=DATE:20251026
DTEND;VALUE=DATE:20251129
LOCATION:Radulf Gruppe\, Østre Åsvej 24\, Jersie\, 2680 Solrød Strand
END:VEVENT
BEGIN:VEVENT
UID:gruppeweb.dk:2613:event:384
DTSTAMP:20260422T165720Z
LAST-MODIFIED:20260218T164219Z
SUMMARY:Familiespejder / Minispejder sheltertur
DESCRIPTION:Invitation / yderligere information følger cirka 1½ måned f
 ør\n\n
URL:https://www.radulf.dk/begivenhed/familiespejder-minispejder-sheltertur
DTSTART:20260613T120000Z
DTEND:20260614T080000Z
LOCATION:Sengeløse Naturpark\, Ågesholmsvej 12\, 2640 Hedehusene
END:VEVENT
BEGIN:VEVENT
UID:gruppeweb.dk:2613:event:373
DTSTAMP:20260422T165720Z
LAST-MODIFIED:20251026T172639Z
SUMMARY:Spejdernes Lejr 2026 - Minispejdere (2 klasse)
DESCRIPTION:Spejdernes Lejr 2026(”SL26”)\n2026s største spejderoplevel
 se\n\n\n\n18 – 26. juli 2026\nHedeland\nInvitation\n\n\n\n\n*Spejdernes 
 lejr fordi:\n*Du mærker suset når 30.000+ tørklæder svinger i (næsten
 ) takt ved\nåbningsceremonien\nSe den fulde invitation her [1]\n\n\n\n\n[
 1] https://drive.google.com/file/d/1Kt7o8hAq_wFbqtcqlwuywfTTGInv1op-/view?
 usp=drive_link\n
URL:https://www.radulf.dk/begivenhed/spejdernes-lejr-2026-minispejdere-2-kl
 asse
DTSTART:20260723T050000Z
DTEND:20260726T140000Z
LOCATION:Hedeland\, Tranemosevej 2\, 2640 Hedehusene
END:VEVENT
END:VCALENDAR
